BEGIN:VCALENDAR
VERSION:2.0
PRODID:-//martina.toemoe.com - ECPv6.15.15//NONSGML v1.0//EN
CALSCALE:GREGORIAN
METHOD:PUBLISH
X-ORIGINAL-URL:https://martina.toemoe.com
X-WR-CALDESC:Veranstaltungen für martina.toemoe.com
REFRESH-INTERVAL;VALUE=DURATION:PT1H
X-Robots-Tag:noindex
X-PUBLISHED-TTL:PT1H
BEGIN:VTIMEZONE
TZID:Europe/Berlin
BEGIN:DAYLIGHT
TZOFFSETFROM:+0100
TZOFFSETTO:+0200
TZNAME:CEST
DTSTART:20240331T010000
END:DAYLIGHT
BEGIN:STANDARD
TZOFFSETFROM:+0200
TZOFFSETTO:+0100
TZNAME:CET
DTSTART:20241027T010000
END:STANDARD
BEGIN:DAYLIGHT
TZOFFSETFROM:+0100
TZOFFSETTO:+0200
TZNAME:CEST
DTSTART:20250330T010000
END:DAYLIGHT
BEGIN:STANDARD
TZOFFSETFROM:+0200
TZOFFSETTO:+0100
TZNAME:CET
DTSTART:20251026T010000
END:STANDARD
BEGIN:DAYLIGHT
TZOFFSETFROM:+0100
TZOFFSETTO:+0200
TZNAME:CEST
DTSTART:20260329T010000
END:DAYLIGHT
BEGIN:STANDARD
TZOFFSETFROM:+0200
TZOFFSETTO:+0100
TZNAME:CET
DTSTART:20261025T010000
END:STANDARD
END:VTIMEZONE
BEGIN:VEVENT
DTSTART;TZID=Europe/Berlin:20251031T170000
DTEND;TZID=Europe/Berlin:20251031T200000
DTSTAMP:20260420T061133
CREATED:20241006T134533Z
LAST-MODIFIED:20250928T144728Z
UID:2002-1761930000-1761940800@martina.toemoe.com
SUMMARY:Samhain
DESCRIPTION:Samhain  \nDas Fest der Ahnen. \nSamhain wird auch als das keltische Neujahr bezeichnet. \nWir gedenken unserer Ahnen\, geben zurück was uns nicht dient und nehmen in Empfang was und unterstützt. Wir danken ihnen für die Begleitung\, ihre Kraft\, ihr Wissen und dass sie hinter und zu uns stehen. Wir laden unsere Ahnen ein mit uns zu feiern\, zu singen und zu tanzen\, ohne Raum und Zeit. \nIm November beginnt die Zeit in der Abschied\, Loslassen und Neubeginn im Vordergrund stehen. Ein Blick durch das Jahr kann uns helfen bewusst zu entscheiden\, was darf gehen und was soll bleiben. Traditionell beginnt jetzt der Rückzug ins Haus\, die Winterzeit. Dazu wurde nicht nur Haus und Hof sondern auch das tiefe Innere vorbereitet. Durch Reinigung und aufnehmen von Wärme. Durch wärmende Speisen und Wärme die durch das Herdfeuer oder den Ofen in die Stube gebracht wird. Kerzen können uns heute helfen das Feuer auch heute in unsere Wohnung zu bringen. \nWillst Du mit uns Samhain im Medizinrad und am Lagerfeuer feiern? Dann melde Dich gern bei mir an. Es ist ein kostenfreies Angebot. Damit wir nach dem Ritual gemeinsam am Lagerfeuer essen können bringt jede Teilnehmerin Geschirr und Besteck sowie eine Kleinigkeit für das gemeinsame Buffet mit.
URL:https://martina.toemoe.com/event/samhain/
LOCATION:Annikas Garten\, Parkplatz am Friedhof Rüdesheim\, Geisenheim\, Hessen\, 65366\, Germany
CATEGORIES:Jahreskreisfeste der Kelten
ATTACH;FMTTYPE=image/jpeg:https://martina.toemoe.com/wp-content/uploads/Lagerfeuer.jpg
END:VEVENT
END:VCALENDAR